BEGIN:VCALENDAR
VERSION:2.0
PRODID:-//ScotSilverMusic - ECPv6.15.20//NONSGML v1.0//EN
CALSCALE:GREGORIAN
METHOD:PUBLISH
X-WR-CALNAME:ScotSilverMusic
X-ORIGINAL-URL:https://www.scotsilvermusic.com
X-WR-CALDESC:Events for ScotSilverMusic
REFRESH-INTERVAL;VALUE=DURATION:PT1H
X-Robots-Tag:noindex
X-PUBLISHED-TTL:PT1H
BEGIN:VTIMEZONE
TZID:America/New_York
BEGIN:DAYLIGHT
TZOFFSETFROM:-0500
TZOFFSETTO:-0400
TZNAME:EDT
DTSTART:20240310T070000
END:DAYLIGHT
BEGIN:STANDARD
TZOFFSETFROM:-0400
TZOFFSETTO:-0500
TZNAME:EST
DTSTART:20241103T060000
END:STANDARD
BEGIN:DAYLIGHT
TZOFFSETFROM:-0500
TZOFFSETTO:-0400
TZNAME:EDT
DTSTART:20250309T070000
END:DAYLIGHT
BEGIN:STANDARD
TZOFFSETFROM:-0400
TZOFFSETTO:-0500
TZNAME:EST
DTSTART:20251102T060000
END:STANDARD
BEGIN:DAYLIGHT
TZOFFSETFROM:-0500
TZOFFSETTO:-0400
TZNAME:EDT
DTSTART:20260308T070000
END:DAYLIGHT
BEGIN:STANDARD
TZOFFSETFROM:-0400
TZOFFSETTO:-0500
TZNAME:EST
DTSTART:20261101T060000
END:STANDARD
END:VTIMEZONE
BEGIN:VEVENT
DTSTART;TZID=America/New_York:20251101T090000
DTEND;TZID=America/New_York:20251101T123000
DTSTAMP:20260424T114705
CREATED:20250305T183852Z
LAST-MODIFIED:20250305T183852Z
UID:3494-1761987600-1762000200@www.scotsilvermusic.com
SUMMARY:Lansdale Farmer's Market
DESCRIPTION:Final appearance in 2025\, bring it on!
URL:https://www.scotsilvermusic.com/event/lansdale-farmers-market-4/
LOCATION:Lansdale Farmer’s Market\, 400 Penn St.\, Lansdale\, PA\, US
CATEGORIES:Scot Silver
END:VEVENT
BEGIN:VEVENT
DTSTART;TZID=America/New_York:20251101T190000
DTEND;TZID=America/New_York:20251101T203000
DTSTAMP:20260424T114705
CREATED:20250920T132939Z
LAST-MODIFIED:20250920T132939Z
UID:4115-1762023600-1762029000@www.scotsilvermusic.com
SUMMARY:Wedding Cocktails
DESCRIPTION:
URL:https://www.scotsilvermusic.com/event/wedding-cocktails-3/
CATEGORIES:Shades of Silver
END:VEVENT
END:VCALENDAR