BEGIN:VCALENDAR
VERSION:2.0
PRODID:-//ScotSilverMusic - ECPv6.15.20//NONSGML v1.0//EN
CALSCALE:GREGORIAN
METHOD:PUBLISH
X-WR-CALNAME:ScotSilverMusic
X-ORIGINAL-URL:https://www.scotsilvermusic.com
X-WR-CALDESC:Events for ScotSilverMusic
REFRESH-INTERVAL;VALUE=DURATION:PT1H
X-Robots-Tag:noindex
X-PUBLISHED-TTL:PT1H
BEGIN:VTIMEZONE
TZID:America/New_York
BEGIN:DAYLIGHT
TZOFFSETFROM:-0500
TZOFFSETTO:-0400
TZNAME:EDT
DTSTART:20250309T070000
END:DAYLIGHT
BEGIN:STANDARD
TZOFFSETFROM:-0400
TZOFFSETTO:-0500
TZNAME:EST
DTSTART:20251102T060000
END:STANDARD
BEGIN:DAYLIGHT
TZOFFSETFROM:-0500
TZOFFSETTO:-0400
TZNAME:EDT
DTSTART:20260308T070000
END:DAYLIGHT
BEGIN:STANDARD
TZOFFSETFROM:-0400
TZOFFSETTO:-0500
TZNAME:EST
DTSTART:20261101T060000
END:STANDARD
BEGIN:DAYLIGHT
TZOFFSETFROM:-0500
TZOFFSETTO:-0400
TZNAME:EDT
DTSTART:20270314T070000
END:DAYLIGHT
BEGIN:STANDARD
TZOFFSETFROM:-0400
TZOFFSETTO:-0500
TZNAME:EST
DTSTART:20271107T060000
END:STANDARD
END:VTIMEZONE
BEGIN:VEVENT
DTSTART;TZID=America/New_York:20260321T183000
DTEND;TZID=America/New_York:20260321T213000
DTSTAMP:20260422T160337
CREATED:20250323T014920Z
LAST-MODIFIED:20250323T014920Z
UID:3512-1774117800-1774128600@www.scotsilvermusic.com
SUMMARY:Evergreen CC-St. Paddy's party inside -ALL ARE WELCOME
DESCRIPTION:Love this place and people. Do join us\, all are welcome. Irish dishes on site as well for purchase. Full bar……
URL:https://www.scotsilvermusic.com/event/evergreen-cc-st-paddys-party-inside-all-are-welcome/
LOCATION:Evergreen Country Club\, 415 Hartz Rd.\, Fleetwood\, 19522\, United States
CATEGORIES:Shades of Green
END:VEVENT
END:VCALENDAR