BEGIN:VCALENDAR
VERSION:2.0
PRODID:-//ScotSilverMusic - ECPv6.15.20//NONSGML v1.0//EN
CALSCALE:GREGORIAN
METHOD:PUBLISH
X-ORIGINAL-URL:https://www.scotsilvermusic.com
X-WR-CALDESC:Events for ScotSilverMusic
REFRESH-INTERVAL;VALUE=DURATION:PT1H
X-Robots-Tag:noindex
X-PUBLISHED-TTL:PT1H
BEGIN:VTIMEZONE
TZID:America/New_York
BEGIN:DAYLIGHT
TZOFFSETFROM:-0500
TZOFFSETTO:-0400
TZNAME:EDT
DTSTART:20220313T070000
END:DAYLIGHT
BEGIN:STANDARD
TZOFFSETFROM:-0400
TZOFFSETTO:-0500
TZNAME:EST
DTSTART:20221106T060000
END:STANDARD
BEGIN:DAYLIGHT
TZOFFSETFROM:-0500
TZOFFSETTO:-0400
TZNAME:EDT
DTSTART:20230312T070000
END:DAYLIGHT
BEGIN:STANDARD
TZOFFSETFROM:-0400
TZOFFSETTO:-0500
TZNAME:EST
DTSTART:20231105T060000
END:STANDARD
BEGIN:DAYLIGHT
TZOFFSETFROM:-0500
TZOFFSETTO:-0400
TZNAME:EDT
DTSTART:20240310T070000
END:DAYLIGHT
BEGIN:STANDARD
TZOFFSETFROM:-0400
TZOFFSETTO:-0500
TZNAME:EST
DTSTART:20241103T060000
END:STANDARD
BEGIN:DAYLIGHT
TZOFFSETFROM:-0500
TZOFFSETTO:-0400
TZNAME:EDT
DTSTART:20250309T070000
END:DAYLIGHT
BEGIN:STANDARD
TZOFFSETFROM:-0400
TZOFFSETTO:-0500
TZNAME:EST
DTSTART:20251102T060000
END:STANDARD
BEGIN:DAYLIGHT
TZOFFSETFROM:-0500
TZOFFSETTO:-0400
TZNAME:EDT
DTSTART:20260308T070000
END:DAYLIGHT
BEGIN:STANDARD
TZOFFSETFROM:-0400
TZOFFSETTO:-0500
TZNAME:EST
DTSTART:20261101T060000
END:STANDARD
BEGIN:DAYLIGHT
TZOFFSETFROM:-0500
TZOFFSETTO:-0400
TZNAME:EDT
DTSTART:20270314T070000
END:DAYLIGHT
BEGIN:STANDARD
TZOFFSETFROM:-0400
TZOFFSETTO:-0500
TZNAME:EST
DTSTART:20271107T060000
END:STANDARD
END:VTIMEZONE
BEGIN:VEVENT
DTSTART;TZID=America/New_York:20260404T113000
DTEND;TZID=America/New_York:20260404T130000
DTSTAMP:20260424T051346
CREATED:20251231T233143Z
LAST-MODIFIED:20251231T233143Z
UID:4451-1775302200-1775307600@www.scotsilvermusic.com
SUMMARY:Baby shower
DESCRIPTION:
URL:https://www.scotsilvermusic.com/event/baby-shower-5/
LOCATION:Somers Point\, Somers Point\, NJ\, United States
CATEGORIES:Adagio
END:VEVENT
BEGIN:VEVENT
DTSTART;TZID=America/New_York:20260117T183000
DTEND;TZID=America/New_York:20260117T203000
DTSTAMP:20260424T051346
CREATED:20251018T201533Z
LAST-MODIFIED:20251018T201533Z
UID:4278-1768674600-1768681800@www.scotsilvermusic.com
SUMMARY:Baby shower
DESCRIPTION:
URL:https://www.scotsilvermusic.com/event/baby-shower-4/
CATEGORIES:Adagio
END:VEVENT
BEGIN:VEVENT
DTSTART;TZID=America/New_York:20251107T173000
DTEND;TZID=America/New_York:20251107T203000
DTSTAMP:20260424T051346
CREATED:20250218T045103Z
LAST-MODIFIED:20250218T045103Z
UID:3471-1762536600-1762547400@www.scotsilvermusic.com
SUMMARY:Private party
DESCRIPTION:Engagement party
URL:https://www.scotsilvermusic.com/event/private-party-2/
CATEGORIES:Adagio
END:VEVENT
BEGIN:VEVENT
DTSTART;TZID=America/New_York:20250830T170000
DTEND;TZID=America/New_York:20250830T200000
DTSTAMP:20260424T051346
CREATED:20250218T044117Z
LAST-MODIFIED:20250218T044117Z
UID:3453-1756573200-1756584000@www.scotsilvermusic.com
SUMMARY:Baby Shower
DESCRIPTION:
URL:https://www.scotsilvermusic.com/event/baby-shower-3/
CATEGORIES:Adagio
END:VEVENT
BEGIN:VEVENT
DTSTART;TZID=America/New_York:20250418T180000
DTEND;TZID=America/New_York:20250418T210000
DTSTAMP:20260424T051346
CREATED:20241220T044315Z
LAST-MODIFIED:20250218T041601Z
UID:3312-1744999200-1745010000@www.scotsilvermusic.com
SUMMARY:Country Club gig
DESCRIPTION:Private
URL:https://www.scotsilvermusic.com/event/country-club-gig-5/
CATEGORIES:Adagio
END:VEVENT
BEGIN:VEVENT
DTSTART;TZID=America/New_York:20250117T190000
DTEND;TZID=America/New_York:20250117T220000
DTSTAMP:20260424T051346
CREATED:20240920T125020Z
LAST-MODIFIED:20240920T125020Z
UID:3225-1737140400-1737151200@www.scotsilvermusic.com
SUMMARY:Cocktail party
DESCRIPTION:
URL:https://www.scotsilvermusic.com/event/cocktail-party/
CATEGORIES:Adagio
END:VEVENT
BEGIN:VEVENT
DTSTART;TZID=America/New_York:20241130T180000
DTEND;TZID=America/New_York:20241130T210000
DTSTAMP:20260424T051346
CREATED:20241120T172020Z
LAST-MODIFIED:20241120T172020Z
UID:3280-1732989600-1733000400@www.scotsilvermusic.com
SUMMARY:Cocktail party
DESCRIPTION:
URL:https://www.scotsilvermusic.com/event/cocktail-party-3/
CATEGORIES:Adagio
END:VEVENT
BEGIN:VEVENT
DTSTART;TZID=America/New_York:20241108T180000
DTEND;TZID=America/New_York:20241108T210000
DTSTAMP:20260424T051346
CREATED:20240410T015031Z
LAST-MODIFIED:20240410T015031Z
UID:3058-1731088800-1731099600@www.scotsilvermusic.com
SUMMARY:Wedding Ceremony
DESCRIPTION:
URL:https://www.scotsilvermusic.com/event/wedding-ceremony-2/
LOCATION:Doylestown CC\, Doylestown\, PA\, US
CATEGORIES:Adagio
END:VEVENT
BEGIN:VEVENT
DTSTART;TZID=America/New_York:20240803T173000
DTEND;TZID=America/New_York:20240803T193000
DTSTAMP:20260424T051346
CREATED:20240203T190510Z
LAST-MODIFIED:20240203T190510Z
UID:2937-1722706200-1722713400@www.scotsilvermusic.com
SUMMARY:Cocktail pty
DESCRIPTION:
URL:https://www.scotsilvermusic.com/event/cocktail-pty/
LOCATION:American Legion auxiliary\, 353 N. Main St.\, Souderton\, PA\, US
CATEGORIES:Adagio
END:VEVENT
BEGIN:VEVENT
DTSTART;TZID=America/New_York:20240705T170000
DTEND;TZID=America/New_York:20240705T180000
DTSTAMP:20260424T051346
CREATED:20231213T191840Z
LAST-MODIFIED:20231213T191840Z
UID:2814-1720198800-1720202400@www.scotsilvermusic.com
SUMMARY:Wedding Ceremony
DESCRIPTION:Private
URL:https://www.scotsilvermusic.com/event/wedding-ceremony/
LOCATION:Ellis Preserve\, Newtown Square\, PA\, United States
CATEGORIES:Adagio
END:VEVENT
BEGIN:VEVENT
DTSTART;TZID=America/New_York:20240614T180000
DTEND;TZID=America/New_York:20240614T210000
DTSTAMP:20260424T051346
CREATED:20240203T185635Z
LAST-MODIFIED:20240203T185635Z
UID:2933-1718388000-1718398800@www.scotsilvermusic.com
SUMMARY:Baby shower
DESCRIPTION:
URL:https://www.scotsilvermusic.com/event/baby-shower/
LOCATION:Fort Washington estates\, 735 Susquehanna Rd\, Fort Washington\, Pa\, United States
CATEGORIES:Adagio
END:VEVENT
BEGIN:VEVENT
DTSTART;TZID=America/New_York:20240405T180000
DTEND;TZID=America/New_York:20240405T210000
DTSTAMP:20260424T051346
CREATED:20231213T182003Z
LAST-MODIFIED:20231213T182003Z
UID:2778-1712340000-1712350800@www.scotsilvermusic.com
SUMMARY:Bridal Shower
DESCRIPTION:Private room event.
URL:https://www.scotsilvermusic.com/event/bridal-shower/
LOCATION:Pepper’s\, 175 Town Center Rd.\, King of Prussia\, US
CATEGORIES:Adagio,Shades of Silver
END:VEVENT
BEGIN:VEVENT
DTSTART;TZID=America/New_York:20240329T180000
DTEND;TZID=America/New_York:20240329T200000
DTSTAMP:20260424T051346
CREATED:20231213T181259Z
LAST-MODIFIED:20231213T181259Z
UID:2773-1711735200-1711742400@www.scotsilvermusic.com
SUMMARY:Dinner Party
DESCRIPTION:Sorry folks\, guests only dinner party
URL:https://www.scotsilvermusic.com/event/dinner-party/
LOCATION:House party\, Radnor\, PA\, United States
CATEGORIES:Adagio
END:VEVENT
BEGIN:VEVENT
DTSTART;TZID=America/New_York:20240203T190000
DTEND;TZID=America/New_York:20240203T210000
DTSTAMP:20260424T051346
CREATED:20231026T141645Z
LAST-MODIFIED:20231026T141804Z
UID:2707-1706986800-1706994000@www.scotsilvermusic.com
SUMMARY:Cocktails
DESCRIPTION:Engagement pty
URL:https://www.scotsilvermusic.com/event/tearin-it-up/
LOCATION:Commonwealth CC\, Horsham\, US
CATEGORIES:Adagio
END:VEVENT
BEGIN:VEVENT
DTSTART;TZID=America/New_York:20231125T183000
DTEND;TZID=America/New_York:20231125T203000
DTSTAMP:20260424T051346
CREATED:20230617T004853Z
LAST-MODIFIED:20230623T022905Z
UID:2389-1700937000-1700944200@www.scotsilvermusic.com
SUMMARY:Adagio
DESCRIPTION:
URL:https://www.scotsilvermusic.com/event/adagio-26/
LOCATION:House party\, Radnor\, PA\, United States
CATEGORIES:Adagio
END:VEVENT
BEGIN:VEVENT
DTSTART;TZID=America/New_York:20230728T193000
DTEND;TZID=America/New_York:20230728T213000
DTSTAMP:20260424T051346
CREATED:20230617T004938Z
LAST-MODIFIED:20230621T164823Z
UID:2402-1690572600-1690579800@www.scotsilvermusic.com
SUMMARY:Adagio
DESCRIPTION:Sorry\, rehearsal dinner….
URL:https://www.scotsilvermusic.com/event/adagio-27/
LOCATION:Glen Hardie CC\, Wayne\, PA\, US
CATEGORIES:Adagio
END:VEVENT
BEGIN:VEVENT
DTSTART;TZID=America/New_York:20230617T180000
DTEND;TZID=America/New_York:20230617T180000
DTSTAMP:20260424T051346
CREATED:20230617T004323Z
LAST-MODIFIED:20230617T113842Z
UID:2280-1687024800-1687024800@www.scotsilvermusic.com
SUMMARY:Adagio
DESCRIPTION:Sorry folks\, wedding ceremony and cocktails.
URL:https://www.scotsilvermusic.com/event/adagio-21/
LOCATION:Private wedding\, Perkasie\, PA\, US
CATEGORIES:Adagio
END:VEVENT
END:VCALENDAR