BEGIN:VCALENDAR
VERSION:2.0
PRODID:-//ScotSilverMusic - ECPv6.15.20//NONSGML v1.0//EN
CALSCALE:GREGORIAN
METHOD:PUBLISH
X-WR-CALNAME:ScotSilverMusic
X-ORIGINAL-URL:https://www.scotsilvermusic.com
X-WR-CALDESC:Events for ScotSilverMusic
REFRESH-INTERVAL;VALUE=DURATION:PT1H
X-Robots-Tag:noindex
X-PUBLISHED-TTL:PT1H
BEGIN:VTIMEZONE
TZID:America/New_York
BEGIN:DAYLIGHT
TZOFFSETFROM:-0500
TZOFFSETTO:-0400
TZNAME:EDT
DTSTART:20240310T070000
END:DAYLIGHT
BEGIN:STANDARD
TZOFFSETFROM:-0400
TZOFFSETTO:-0500
TZNAME:EST
DTSTART:20241103T060000
END:STANDARD
BEGIN:DAYLIGHT
TZOFFSETFROM:-0500
TZOFFSETTO:-0400
TZNAME:EDT
DTSTART:20250309T070000
END:DAYLIGHT
BEGIN:STANDARD
TZOFFSETFROM:-0400
TZOFFSETTO:-0500
TZNAME:EST
DTSTART:20251102T060000
END:STANDARD
BEGIN:DAYLIGHT
TZOFFSETFROM:-0500
TZOFFSETTO:-0400
TZNAME:EDT
DTSTART:20260308T070000
END:DAYLIGHT
BEGIN:STANDARD
TZOFFSETFROM:-0400
TZOFFSETTO:-0500
TZNAME:EST
DTSTART:20261101T060000
END:STANDARD
BEGIN:DAYLIGHT
TZOFFSETFROM:-0500
TZOFFSETTO:-0400
TZNAME:EDT
DTSTART:20270314T070000
END:DAYLIGHT
BEGIN:STANDARD
TZOFFSETFROM:-0400
TZOFFSETTO:-0500
TZNAME:EST
DTSTART:20271107T060000
END:STANDARD
END:VTIMEZONE
BEGIN:VEVENT
DTSTART;TZID=America/New_York:20260418T140000
DTEND;TZID=America/New_York:20260418T170000
DTSTAMP:20260422T142834
CREATED:20251029T013828Z
LAST-MODIFIED:20251029T013828Z
UID:4317-1776520800-1776531600@www.scotsilvermusic.com
SUMMARY:Lancaster winery with Scot
DESCRIPTION:
URL:https://www.scotsilvermusic.com/event/lancaster-winery-with-scot/
LOCATION:Nissley-Bainbridge\, 140 Vintage Dr\, Bainbridge\, PA\, 17502\, United States
CATEGORIES:Scot Silver
END:VEVENT
BEGIN:VEVENT
DTSTART;TZID=America/New_York:20260411T170000
DTEND;TZID=America/New_York:20260411T200000
DTSTAMP:20260422T142834
CREATED:20251210T163920Z
LAST-MODIFIED:20251210T163920Z
UID:4413-1775926800-1775937600@www.scotsilvermusic.com
SUMMARY:Engagement party
DESCRIPTION:
URL:https://www.scotsilvermusic.com/event/engagement-party/
CATEGORIES:Scot Silver
END:VEVENT
BEGIN:VEVENT
DTSTART;TZID=America/New_York:20260405T093000
DTEND;TZID=America/New_York:20260405T153000
DTSTAMP:20260422T142834
CREATED:20251210T162547Z
LAST-MODIFIED:20251210T162634Z
UID:4404-1775381400-1775403000@www.scotsilvermusic.com
SUMMARY:Easter Brunch -  members only
DESCRIPTION:
URL:https://www.scotsilvermusic.com/event/easter-brunch-members-only/
LOCATION:Union League-Swainton\, Swainton\, NJ
CATEGORIES:Scot Silver
END:VEVENT
BEGIN:VEVENT
DTSTART;TZID=America/New_York:20260327T180000
DTEND;TZID=America/New_York:20260327T210000
DTSTAMP:20260422T142834
CREATED:20251018T201856Z
LAST-MODIFIED:20251018T201856Z
UID:4286-1774634400-1774645200@www.scotsilvermusic.com
SUMMARY:Members only
DESCRIPTION:
URL:https://www.scotsilvermusic.com/event/members-only-10/
LOCATION:Manufacturer’s CC\, Fort Washington\, PA\, US
CATEGORIES:Scot Silver
END:VEVENT
BEGIN:VEVENT
DTSTART;TZID=America/New_York:20260228T160000
DTEND;TZID=America/New_York:20260228T180000
DTSTAMP:20260422T142834
CREATED:20250621T004803Z
LAST-MODIFIED:20250621T004803Z
UID:3561-1772294400-1772301600@www.scotsilvermusic.com
SUMMARY:Ceremony and Cocktails
DESCRIPTION:
URL:https://www.scotsilvermusic.com/event/ceremony-and-cocktails-2/
CATEGORIES:Scot Silver
END:VEVENT
BEGIN:VEVENT
DTSTART;TZID=America/New_York:20260227T183000
DTEND;TZID=America/New_York:20260227T213000
DTSTAMP:20260422T142834
CREATED:20251018T201744Z
LAST-MODIFIED:20251018T201744Z
UID:4284-1772217000-1772227800@www.scotsilvermusic.com
SUMMARY:Cocktail pty
DESCRIPTION:
URL:https://www.scotsilvermusic.com/event/cocktail-pty-2/
CATEGORIES:Scot Silver
END:VEVENT
BEGIN:VEVENT
DTSTART;TZID=America/New_York:20260214T170000
DTEND;TZID=America/New_York:20260214T190000
DTSTAMP:20260422T142834
CREATED:20251018T201647Z
LAST-MODIFIED:20260128T202304Z
UID:4282-1771088400-1771095600@www.scotsilvermusic.com
SUMMARY:Valentine's event in Lansdale
DESCRIPTION:This will be a ticketed event\, for their new special event space. Open to the public. I slated a $20 ticket fee\, but tbd. It will likely include a nice buffet and drinks perhaps.  I will perform an array of Romantic classics\, instrumentally and vocally.
URL:https://www.scotsilvermusic.com/event/away-6/
LOCATION:El Limon\, 314 Madison St\, Lansdale\, PA\, 19446\, United States
CATEGORIES:Scot Silver
END:VEVENT
BEGIN:VEVENT
DTSTART;TZID=America/New_York:20260213T080000
DTEND;TZID=America/New_York:20260213T233000
DTSTAMP:20260422T142834
CREATED:20251018T201620Z
LAST-MODIFIED:20251018T201620Z
UID:4280-1770969600-1771025400@www.scotsilvermusic.com
SUMMARY:Away
DESCRIPTION:
URL:https://www.scotsilvermusic.com/event/away-5/
CATEGORIES:Scot Silver
END:VEVENT
BEGIN:VEVENT
DTSTART;TZID=America/New_York:20260201T080000
DTEND;TZID=America/New_York:20260201T233000
DTSTAMP:20260422T142834
CREATED:20251018T200638Z
LAST-MODIFIED:20251018T200638Z
UID:4269-1769932800-1769988600@www.scotsilvermusic.com
SUMMARY:Away
DESCRIPTION:
URL:https://www.scotsilvermusic.com/event/away-3/
CATEGORIES:Scot Silver
END:VEVENT
BEGIN:VEVENT
DTSTART;TZID=America/New_York:20260131T080000
DTEND;TZID=America/New_York:20260131T233000
DTSTAMP:20260422T142834
CREATED:20251018T200607Z
LAST-MODIFIED:20251018T200607Z
UID:4267-1769846400-1769902200@www.scotsilvermusic.com
SUMMARY:Away
DESCRIPTION:
URL:https://www.scotsilvermusic.com/event/away-2/
CATEGORIES:Scot Silver
END:VEVENT
BEGIN:VEVENT
DTSTART;TZID=America/New_York:20260130T080000
DTEND;TZID=America/New_York:20260130T233000
DTSTAMP:20260422T142834
CREATED:20251018T200540Z
LAST-MODIFIED:20251018T200540Z
UID:4265-1769760000-1769815800@www.scotsilvermusic.com
SUMMARY:Away
DESCRIPTION:
URL:https://www.scotsilvermusic.com/event/away/
CATEGORIES:Scot Silver
END:VEVENT
BEGIN:VEVENT
DTSTART;TZID=America/New_York:20260123T170000
DTEND;TZID=America/New_York:20260123T200000
DTSTAMP:20260422T142834
CREATED:20260121T034723Z
LAST-MODIFIED:20260121T034723Z
UID:4533-1769187600-1769198400@www.scotsilvermusic.com
SUMMARY:Scot @ Evansburg Winery
DESCRIPTION:Indoor\, thank heavens\, at wonderful winery. 
URL:https://www.scotsilvermusic.com/event/scot-evansburg-winery-4/
LOCATION:Evansburg Winery\, 3857 Germantown Pike\, Collegeville\, 19426\, United States
CATEGORIES:Scot Silver
END:VEVENT
BEGIN:VEVENT
DTSTART;TZID=America/New_York:20260110T170000
DTEND;TZID=America/New_York:20260110T233000
DTSTAMP:20260422T142834
CREATED:20251018T200728Z
LAST-MODIFIED:20251018T200728Z
UID:4271-1768064400-1768087800@www.scotsilvermusic.com
SUMMARY:Away
DESCRIPTION:
URL:https://www.scotsilvermusic.com/event/away-4/
CATEGORIES:Scot Silver
END:VEVENT
BEGIN:VEVENT
DTSTART;TZID=America/New_York:20260102T180000
DTEND;TZID=America/New_York:20260102T210000
DTSTAMP:20260422T142834
CREATED:20251123T182353Z
LAST-MODIFIED:20251205T205416Z
UID:4392-1767376800-1767387600@www.scotsilvermusic.com
SUMMARY:Debut at DiFabio's
DESCRIPTION:Debut at wonderful restaurant\, top level. Coleen joining Scot on sets 2 and 3.
URL:https://www.scotsilvermusic.com/event/solo-at-difabios/
LOCATION:DiFabio’s\, 1243 N. Providence Rd.\, Media\, 19063\, United States
CATEGORIES:Scot Silver,Shades of Silver
END:VEVENT
BEGIN:VEVENT
DTSTART;TZID=America/New_York:20251227T130000
DTEND;TZID=America/New_York:20251227T160000
DTSTAMP:20260422T142834
CREATED:20250621T004205Z
LAST-MODIFIED:20250621T004205Z
UID:3553-1766840400-1766851200@www.scotsilvermusic.com
SUMMARY:Nissley Vineyards
DESCRIPTION:You know they’ll have the warm wine kickin’!
URL:https://www.scotsilvermusic.com/event/nissley-vineyards-2/
LOCATION:Nissley-Bainbridge\, 140 Vintage Dr\, Bainbridge\, PA\, 17502\, United States
CATEGORIES:Scot Silver
END:VEVENT
BEGIN:VEVENT
DTSTART;TZID=America/New_York:20251206T180000
DTEND;TZID=America/New_York:20251206T210000
DTSTAMP:20260422T142834
CREATED:20250621T003906Z
LAST-MODIFIED:20250621T003906Z
UID:3547-1765044000-1765054800@www.scotsilvermusic.com
SUMMARY:Members only
DESCRIPTION:
URL:https://www.scotsilvermusic.com/event/members-only-8/
LOCATION:Philadelphia Country Club\, Gladwynne\, PA\, US
CATEGORIES:Scot Silver
END:VEVENT
BEGIN:VEVENT
DTSTART;TZID=America/New_York:20251121T180000
DTEND;TZID=America/New_York:20251121T210000
DTSTAMP:20260422T142834
CREATED:20250218T045315Z
LAST-MODIFIED:20250218T045315Z
UID:3475-1763748000-1763758800@www.scotsilvermusic.com
SUMMARY:Private event
DESCRIPTION:
URL:https://www.scotsilvermusic.com/event/private-event-3/
CATEGORIES:Scot Silver
END:VEVENT
BEGIN:VEVENT
DTSTART;TZID=America/New_York:20251116T173000
DTEND;TZID=America/New_York:20251116T203000
DTSTAMP:20260422T142834
CREATED:20250801T030146Z
LAST-MODIFIED:20250803T222251Z
UID:3650-1763314200-1763325000@www.scotsilvermusic.com
SUMMARY:General Warren Inne
DESCRIPTION:Jordan and Scot back to haunt your dreams…or help embrace ’em! Back outside covered patio.
URL:https://www.scotsilvermusic.com/event/general-warren-inne-2/
LOCATION:General Warren Inne\, 9 Old Lancaster Road\, Malvern\, PA\, US
CATEGORIES:Scot Silver,Shades of Silver
END:VEVENT
BEGIN:VEVENT
DTSTART;TZID=America/New_York:20251108T180000
DTEND;TZID=America/New_York:20251108T210000
DTSTAMP:20260422T142834
CREATED:20250218T045215Z
LAST-MODIFIED:20250218T045215Z
UID:3473-1762624800-1762635600@www.scotsilvermusic.com
SUMMARY:members only
DESCRIPTION:
URL:https://www.scotsilvermusic.com/event/members-only-7/
LOCATION:Manufacturer’s CC\, Fort Washington\, PA\, US
CATEGORIES:Scot Silver
END:VEVENT
BEGIN:VEVENT
DTSTART;TZID=America/New_York:20251101T090000
DTEND;TZID=America/New_York:20251101T123000
DTSTAMP:20260422T142834
CREATED:20250305T183852Z
LAST-MODIFIED:20250305T183852Z
UID:3494-1761987600-1762000200@www.scotsilvermusic.com
SUMMARY:Lansdale Farmer's Market
DESCRIPTION:Final appearance in 2025\, bring it on!
URL:https://www.scotsilvermusic.com/event/lansdale-farmers-market-4/
LOCATION:Lansdale Farmer’s Market\, 400 Penn St.\, Lansdale\, PA\, US
CATEGORIES:Scot Silver
END:VEVENT
BEGIN:VEVENT
DTSTART;TZID=America/New_York:20251031T180000
DTEND;TZID=America/New_York:20251031T210000
DTSTAMP:20260422T142834
CREATED:20251008T164415Z
LAST-MODIFIED:20251008T164415Z
UID:4240-1761933600-1761944400@www.scotsilvermusic.com
SUMMARY:Halloween with Scot
DESCRIPTION:Come dressed for fun\, I will. Rock or Treat!
URL:https://www.scotsilvermusic.com/event/halloween-with-scot/
LOCATION:JJ Ratigan Brewing Co.\, 227 E. High St.\, Pottstown\, PA\, US
CATEGORIES:Scot Silver
END:VEVENT
BEGIN:VEVENT
DTSTART;TZID=America/New_York:20251025T080000
DTEND;TZID=America/New_York:20251025T233000
DTSTAMP:20260422T142834
CREATED:20250218T044725Z
LAST-MODIFIED:20250218T044725Z
UID:3467-1761379200-1761435000@www.scotsilvermusic.com
SUMMARY:Vacation
DESCRIPTION:
URL:https://www.scotsilvermusic.com/event/vacation-12/
CATEGORIES:Scot Silver
END:VEVENT
BEGIN:VEVENT
DTSTART;TZID=America/New_York:20251024T080000
DTEND;TZID=America/New_York:20251024T233000
DTSTAMP:20260422T142834
CREATED:20250218T044659Z
LAST-MODIFIED:20250218T044659Z
UID:3465-1761292800-1761348600@www.scotsilvermusic.com
SUMMARY:Vacation
DESCRIPTION:
URL:https://www.scotsilvermusic.com/event/vacation-11/
CATEGORIES:Scot Silver
END:VEVENT
BEGIN:VEVENT
DTSTART;TZID=America/New_York:20251019T173000
DTEND;TZID=America/New_York:20251019T203000
DTSTAMP:20260422T142834
CREATED:20250801T030103Z
LAST-MODIFIED:20250803T222343Z
UID:3648-1760895000-1760905800@www.scotsilvermusic.com
SUMMARY:General Warren Inne
DESCRIPTION:Nicole and Scot back on back patio\, lovely as always. Reservations recommended.
URL:https://www.scotsilvermusic.com/event/general-warren-inne/
LOCATION:General Warren Inne\, 9 Old Lancaster Road\, Malvern\, PA\, US
CATEGORIES:Scot Silver,Shades of Silver
END:VEVENT
BEGIN:VEVENT
DTSTART;TZID=America/New_York:20251010T180000
DTEND;TZID=America/New_York:20251010T210000
DTSTAMP:20260422T142834
CREATED:20250218T044631Z
LAST-MODIFIED:20250218T044631Z
UID:3463-1760119200-1760130000@www.scotsilvermusic.com
SUMMARY:Members only
DESCRIPTION:
URL:https://www.scotsilvermusic.com/event/members-only-6/
LOCATION:Doylestown CC\, Doylestown\, PA\, US
CATEGORIES:Scot Silver
END:VEVENT
BEGIN:VEVENT
DTSTART;TZID=America/New_York:20251005T130000
DTEND;TZID=America/New_York:20251005T160000
DTSTAMP:20260422T142834
CREATED:20250621T003451Z
LAST-MODIFIED:20251004T184348Z
UID:3537-1759669200-1759680000@www.scotsilvermusic.com
SUMMARY:Peddler's Village Nissley Vineyards
DESCRIPTION: Scot back to haunt your dreams…..not really\, but great tunage and wine fo sho!
URL:https://www.scotsilvermusic.com/event/peddlers-village-nissley-vineyards/
LOCATION:Nissley -Peddler’s Village\, 20 Peddler's Village\, Lahaska\, PA\, 18931\, United States
CATEGORIES:Scot Silver
END:VEVENT
BEGIN:VEVENT
DTSTART;TZID=America/New_York:20250927T183000
DTEND;TZID=America/New_York:20250927T203000
DTSTAMP:20260422T142834
CREATED:20250218T044517Z
LAST-MODIFIED:20250218T044517Z
UID:3461-1758997800-1759005000@www.scotsilvermusic.com
SUMMARY:Graduation party
DESCRIPTION:
URL:https://www.scotsilvermusic.com/event/graduation-party/
CATEGORIES:Scot Silver
END:VEVENT
BEGIN:VEVENT
DTSTART;TZID=America/New_York:20250919T170000
DTEND;TZID=America/New_York:20250919T200000
DTSTAMP:20260422T142834
CREATED:20250131T043804Z
LAST-MODIFIED:20250131T043804Z
UID:3398-1758301200-1758312000@www.scotsilvermusic.com
SUMMARY:Evansburg winery solo
DESCRIPTION:Good to be back. beautiful outdoor winery. I play in pavillion.
URL:https://www.scotsilvermusic.com/event/evansburg-winery-solo/
CATEGORIES:Scot Silver
END:VEVENT
BEGIN:VEVENT
DTSTART;TZID=America/New_York:20250913T090000
DTEND;TZID=America/New_York:20250913T123000
DTSTAMP:20260422T142834
CREATED:20250305T183750Z
LAST-MODIFIED:20250305T183750Z
UID:3492-1757754000-1757766600@www.scotsilvermusic.com
SUMMARY:Lansdale Farmer's market
DESCRIPTION:Fall into goodies and tones.
URL:https://www.scotsilvermusic.com/event/lansdale-farmers-market-3/
LOCATION:Lansdale Farmer’s Market\, 400 Penn St.\, Lansdale\, PA\, US
CATEGORIES:Scot Silver
END:VEVENT
BEGIN:VEVENT
DTSTART;TZID=America/New_York:20250912T180000
DTEND;TZID=America/New_York:20250912T210000
DTSTAMP:20260422T142834
CREATED:20250218T044254Z
LAST-MODIFIED:20250218T044254Z
UID:3455-1757700000-1757710800@www.scotsilvermusic.com
SUMMARY:Members only
DESCRIPTION:
URL:https://www.scotsilvermusic.com/event/members-only-5/
LOCATION:Whitemarsh CC\, 815 Thomas Rd\, Lafayette Hill\, PA\, US
CATEGORIES:Scot Silver
END:VEVENT
END:VCALENDAR