BEGIN:VCALENDAR
VERSION:2.0
PRODID:-//ScotSilverMusic - ECPv6.15.20//NONSGML v1.0//EN
CALSCALE:GREGORIAN
METHOD:PUBLISH
X-WR-CALNAME:ScotSilverMusic
X-ORIGINAL-URL:https://www.scotsilvermusic.com
X-WR-CALDESC:Events for ScotSilverMusic
REFRESH-INTERVAL;VALUE=DURATION:PT1H
X-Robots-Tag:noindex
X-PUBLISHED-TTL:PT1H
BEGIN:VTIMEZONE
TZID:America/New_York
BEGIN:DAYLIGHT
TZOFFSETFROM:-0500
TZOFFSETTO:-0400
TZNAME:EDT
DTSTART:20250309T070000
END:DAYLIGHT
BEGIN:STANDARD
TZOFFSETFROM:-0400
TZOFFSETTO:-0500
TZNAME:EST
DTSTART:20251102T060000
END:STANDARD
BEGIN:DAYLIGHT
TZOFFSETFROM:-0500
TZOFFSETTO:-0400
TZNAME:EDT
DTSTART:20260308T070000
END:DAYLIGHT
BEGIN:STANDARD
TZOFFSETFROM:-0400
TZOFFSETTO:-0500
TZNAME:EST
DTSTART:20261101T060000
END:STANDARD
BEGIN:DAYLIGHT
TZOFFSETFROM:-0500
TZOFFSETTO:-0400
TZNAME:EDT
DTSTART:20270314T070000
END:DAYLIGHT
BEGIN:STANDARD
TZOFFSETFROM:-0400
TZOFFSETTO:-0500
TZNAME:EST
DTSTART:20271107T060000
END:STANDARD
END:VTIMEZONE
BEGIN:VEVENT
DTSTART;TZID=America/New_York:20260102T180000
DTEND;TZID=America/New_York:20260102T210000
DTSTAMP:20260422T142725
CREATED:20251123T182353Z
LAST-MODIFIED:20251205T205416Z
UID:4392-1767376800-1767387600@www.scotsilvermusic.com
SUMMARY:Debut at DiFabio's
DESCRIPTION:Debut at wonderful restaurant\, top level. Coleen joining Scot on sets 2 and 3.
URL:https://www.scotsilvermusic.com/event/solo-at-difabios/
LOCATION:DiFabio’s\, 1243 N. Providence Rd.\, Media\, 19063\, United States
CATEGORIES:Scot Silver,Shades of Silver
END:VEVENT
BEGIN:VEVENT
DTSTART;TZID=America/New_York:20260103T080000
DTEND;TZID=America/New_York:20260103T233000
DTSTAMP:20260422T142725
CREATED:20250621T004711Z
LAST-MODIFIED:20250621T004711Z
UID:3559-1767427200-1767483000@www.scotsilvermusic.com
SUMMARY:Family Time
DESCRIPTION:
URL:https://www.scotsilvermusic.com/event/family-time-4/
END:VEVENT
BEGIN:VEVENT
DTSTART;TZID=America/New_York:20260110T170000
DTEND;TZID=America/New_York:20260110T233000
DTSTAMP:20260422T142725
CREATED:20251018T200728Z
LAST-MODIFIED:20251018T200728Z
UID:4271-1768064400-1768087800@www.scotsilvermusic.com
SUMMARY:Away
DESCRIPTION:
URL:https://www.scotsilvermusic.com/event/away-4/
CATEGORIES:Scot Silver
END:VEVENT
BEGIN:VEVENT
DTSTART;TZID=America/New_York:20260116T180000
DTEND;TZID=America/New_York:20260116T210000
DTSTAMP:20260422T142725
CREATED:20251018T201435Z
LAST-MODIFIED:20251018T201435Z
UID:4276-1768586400-1768597200@www.scotsilvermusic.com
SUMMARY:Members only
DESCRIPTION:
URL:https://www.scotsilvermusic.com/event/members-only-9/
LOCATION:Aronimink CC\, 3600 St Davids Rd.\, Newtown Square\, PA\, US
CATEGORIES:Shades of Silver
END:VEVENT
BEGIN:VEVENT
DTSTART;TZID=America/New_York:20260117T183000
DTEND;TZID=America/New_York:20260117T203000
DTSTAMP:20260422T142725
CREATED:20251018T201533Z
LAST-MODIFIED:20251018T201533Z
UID:4278-1768674600-1768681800@www.scotsilvermusic.com
SUMMARY:Baby shower
DESCRIPTION:
URL:https://www.scotsilvermusic.com/event/baby-shower-4/
CATEGORIES:Adagio
END:VEVENT
BEGIN:VEVENT
DTSTART;TZID=America/New_York:20260123T170000
DTEND;TZID=America/New_York:20260123T200000
DTSTAMP:20260422T142725
CREATED:20260121T034723Z
LAST-MODIFIED:20260121T034723Z
UID:4533-1769187600-1769198400@www.scotsilvermusic.com
SUMMARY:Scot @ Evansburg Winery
DESCRIPTION:Indoor\, thank heavens\, at wonderful winery. 
URL:https://www.scotsilvermusic.com/event/scot-evansburg-winery-4/
LOCATION:Evansburg Winery\, 3857 Germantown Pike\, Collegeville\, 19426\, United States
CATEGORIES:Scot Silver
END:VEVENT
BEGIN:VEVENT
DTSTART;TZID=America/New_York:20260130T080000
DTEND;TZID=America/New_York:20260130T233000
DTSTAMP:20260422T142725
CREATED:20251018T200540Z
LAST-MODIFIED:20251018T200540Z
UID:4265-1769760000-1769815800@www.scotsilvermusic.com
SUMMARY:Away
DESCRIPTION:
URL:https://www.scotsilvermusic.com/event/away/
CATEGORIES:Scot Silver
END:VEVENT
BEGIN:VEVENT
DTSTART;TZID=America/New_York:20260131T080000
DTEND;TZID=America/New_York:20260131T233000
DTSTAMP:20260422T142725
CREATED:20251018T200607Z
LAST-MODIFIED:20251018T200607Z
UID:4267-1769846400-1769902200@www.scotsilvermusic.com
SUMMARY:Away
DESCRIPTION:
URL:https://www.scotsilvermusic.com/event/away-2/
CATEGORIES:Scot Silver
END:VEVENT
END:VCALENDAR