BEGIN:VCALENDAR
VERSION:2.0
PRODID:-//ScotSilverMusic - ECPv6.15.20//NONSGML v1.0//EN
CALSCALE:GREGORIAN
METHOD:PUBLISH
X-WR-CALNAME:ScotSilverMusic
X-ORIGINAL-URL:https://www.scotsilvermusic.com
X-WR-CALDESC:Events for ScotSilverMusic
REFRESH-INTERVAL;VALUE=DURATION:PT1H
X-Robots-Tag:noindex
X-PUBLISHED-TTL:PT1H
BEGIN:VTIMEZONE
TZID:America/New_York
BEGIN:DAYLIGHT
TZOFFSETFROM:-0500
TZOFFSETTO:-0400
TZNAME:EDT
DTSTART:20250309T070000
END:DAYLIGHT
BEGIN:STANDARD
TZOFFSETFROM:-0400
TZOFFSETTO:-0500
TZNAME:EST
DTSTART:20251102T060000
END:STANDARD
BEGIN:DAYLIGHT
TZOFFSETFROM:-0500
TZOFFSETTO:-0400
TZNAME:EDT
DTSTART:20260308T070000
END:DAYLIGHT
BEGIN:STANDARD
TZOFFSETFROM:-0400
TZOFFSETTO:-0500
TZNAME:EST
DTSTART:20261101T060000
END:STANDARD
BEGIN:DAYLIGHT
TZOFFSETFROM:-0500
TZOFFSETTO:-0400
TZNAME:EDT
DTSTART:20270314T070000
END:DAYLIGHT
BEGIN:STANDARD
TZOFFSETFROM:-0400
TZOFFSETTO:-0500
TZNAME:EST
DTSTART:20271107T060000
END:STANDARD
END:VTIMEZONE
BEGIN:VEVENT
DTSTART;TZID=America/New_York:20260501T170000
DTEND;TZID=America/New_York:20260501T200000
DTSTAMP:20260422T155635
CREATED:20260116T231433Z
LAST-MODIFIED:20260116T231433Z
UID:4520-1777654800-1777665600@www.scotsilvermusic.com
SUMMARY:Scot @ Evansburg Winery
DESCRIPTION:1st one for the season. Love it here. Outdoor pavillion.
URL:https://www.scotsilvermusic.com/event/scot-evansburg-winery/
LOCATION:Evansburg Winery\, 3857 Germantown Pike\, Collegeville\, 19426\, United States
CATEGORIES:Scot Silver
END:VEVENT
BEGIN:VEVENT
DTSTART;TZID=America/New_York:20260503T180000
DTEND;TZID=America/New_York:20260503T203000
DTSTAMP:20260422T155635
CREATED:20260422T032259Z
LAST-MODIFIED:20260422T032259Z
UID:4664-1777831200-1777840200@www.scotsilvermusic.com
SUMMARY:Private
DESCRIPTION:
URL:https://www.scotsilvermusic.com/event/private/
CATEGORIES:Scot Silver
END:VEVENT
BEGIN:VEVENT
DTSTART;TZID=America/New_York:20260508T180000
DTEND;TZID=America/New_York:20260508T210000
DTSTAMP:20260422T155635
CREATED:20251210T164158Z
LAST-MODIFIED:20251210T164158Z
UID:4419-1778263200-1778274000@www.scotsilvermusic.com
SUMMARY:Members only
DESCRIPTION:
URL:https://www.scotsilvermusic.com/event/members-only-15/
LOCATION:Radnor Valley CC\, Radnor\, PA\, US
CATEGORIES:Scot Silver
END:VEVENT
BEGIN:VEVENT
DTSTART;TZID=America/New_York:20260509T180000
DTEND;TZID=America/New_York:20260509T220000
DTSTAMP:20260422T155635
CREATED:20250621T010149Z
LAST-MODIFIED:20250621T010149Z
UID:3571-1778349600-1778364000@www.scotsilvermusic.com
SUMMARY:40th Anniversary party
DESCRIPTION:
URL:https://www.scotsilvermusic.com/event/40th-anniversary-party/
CATEGORIES:Shades of Silver
END:VEVENT
BEGIN:VEVENT
DTSTART;TZID=America/New_York:20260515T160000
DTEND;TZID=America/New_York:20260515T190000
DTSTAMP:20260422T155635
CREATED:20260320T135231Z
LAST-MODIFIED:20260320T135231Z
UID:4626-1778860800-1778871600@www.scotsilvermusic.com
SUMMARY:Solo at Karamoor Estate winery
DESCRIPTION:Scot’s debut at lovely winery.
URL:https://www.scotsilvermusic.com/event/solo-at-karamoor-estate-winery/
LOCATION:Karamoor Estate Vinetard and Winery\, 6118 Butler Pike\, Blue Bell\, PA\, 19422\, United States
CATEGORIES:Scot Silver
END:VEVENT
BEGIN:VEVENT
DTSTART;TZID=America/New_York:20260516T090000
DTEND;TZID=America/New_York:20260516T123000
DTSTAMP:20260422T155635
CREATED:20260202T014138Z
LAST-MODIFIED:20260202T014138Z
UID:4561-1778922000-1778934600@www.scotsilvermusic.com
SUMMARY:Lansdale Farmer's Market
DESCRIPTION:Let’s get this produce party started…and so much more. Wonderful vendors and variety as always.
URL:https://www.scotsilvermusic.com/event/lansdale-farmers-market-2/
LOCATION:Lansdale Farmer’s Market\, 400 Penn St.\, Lansdale\, PA\, US
CATEGORIES:Scot Silver
END:VEVENT
BEGIN:VEVENT
DTSTART;TZID=America/New_York:20260516T140000
DTEND;TZID=America/New_York:20260516T170000
DTSTAMP:20260422T155635
CREATED:20251029T013935Z
LAST-MODIFIED:20251029T013935Z
UID:4319-1778940000-1778950800@www.scotsilvermusic.com
SUMMARY:Peddler's Village winery with Scot
DESCRIPTION:
URL:https://www.scotsilvermusic.com/event/peddlers-village-winery-with-scot/
LOCATION:Nissley -Peddler’s Village\, 20 Peddler's Village\, Lahaska\, PA\, 18931\, United States
CATEGORIES:Scot Silver
END:VEVENT
BEGIN:VEVENT
DTSTART;TZID=America/New_York:20260522T080000
DTEND;TZID=America/New_York:20260522T233000
DTSTAMP:20260422T155635
CREATED:20251231T233637Z
LAST-MODIFIED:20251231T233637Z
UID:4454-1779436800-1779492600@www.scotsilvermusic.com
SUMMARY:Away
DESCRIPTION:
URL:https://www.scotsilvermusic.com/event/away-12/
CATEGORIES:Scot Silver
END:VEVENT
BEGIN:VEVENT
DTSTART;TZID=America/New_York:20260523T080000
DTEND;TZID=America/New_York:20260523T233000
DTSTAMP:20260422T155635
CREATED:20251231T233711Z
LAST-MODIFIED:20251231T233711Z
UID:4456-1779523200-1779579000@www.scotsilvermusic.com
SUMMARY:Away
DESCRIPTION:
URL:https://www.scotsilvermusic.com/event/away-13/
CATEGORIES:Scot Silver
END:VEVENT
BEGIN:VEVENT
DTSTART;TZID=America/New_York:20260524T080000
DTEND;TZID=America/New_York:20260524T233000
DTSTAMP:20260422T155635
CREATED:20251231T233747Z
LAST-MODIFIED:20251231T233747Z
UID:4458-1779609600-1779665400@www.scotsilvermusic.com
SUMMARY:Away
DESCRIPTION:
URL:https://www.scotsilvermusic.com/event/away-14/
CATEGORIES:Scot Silver
END:VEVENT
BEGIN:VEVENT
DTSTART;TZID=America/New_York:20260529T190000
DTEND;TZID=America/New_York:20260529T220000
DTSTAMP:20260422T155635
CREATED:20260126T161610Z
LAST-MODIFIED:20260225T022144Z
UID:4544-1780081200-1780092000@www.scotsilvermusic.com
SUMMARY:Duo @ DiFabio's
DESCRIPTION:Jordan and Scot make your dreams come true.\,
URL:https://www.scotsilvermusic.com/event/botanery-barn-in-elverson/
LOCATION:DiFabio’s\, 1243 N. Providence Rd.\, Media\, 19063\, United States
CATEGORIES:Shades of Silver
END:VEVENT
BEGIN:VEVENT
DTSTART;TZID=America/New_York:20260530T193000
DTEND;TZID=America/New_York:20260530T220000
DTSTAMP:20260422T155635
CREATED:20250814T015427Z
LAST-MODIFIED:20260202T014536Z
UID:3672-1780169400-1780178400@www.scotsilvermusic.com
SUMMARY:MindStorm Havertown concert
DESCRIPTION:The boys back at it. Ticket info once known.  Scot’s son’s band ‘Inverse Mirror’ opening and 1 more tbd. \n  \n 
URL:https://www.scotsilvermusic.com/event/mindstorm-havertown-concert/
LOCATION:Kelly Music For Life\, 4 Eagle Rd\, Havertown\, PA\, US
CATEGORIES:Mindstorm
END:VEVENT
END:VCALENDAR